BEGIN:VCALENDAR
VERSION:2.0
PRODID:-//Nevada Local Technical Assistance Program - ECPv6.15.17//NONSGML v1.0//EN
CALSCALE:GREGORIAN
METHOD:PUBLISH
X-ORIGINAL-URL:https://nvltap.com
X-WR-CALDESC:Events for Nevada Local Technical Assistance Program
REFRESH-INTERVAL;VALUE=DURATION:PT1H
X-Robots-Tag:noindex
X-PUBLISHED-TTL:PT1H
BEGIN:VTIMEZONE
TZID:America/Los_Angeles
BEGIN:DAYLIGHT
TZOFFSETFROM:-0800
TZOFFSETTO:-0700
TZNAME:PDT
DTSTART:20230312T100000
END:DAYLIGHT
BEGIN:STANDARD
TZOFFSETFROM:-0700
TZOFFSETTO:-0800
TZNAME:PST
DTSTART:20231105T090000
END:STANDARD
BEGIN:DAYLIGHT
TZOFFSETFROM:-0800
TZOFFSETTO:-0700
TZNAME:PDT
DTSTART:20240310T100000
END:DAYLIGHT
BEGIN:STANDARD
TZOFFSETFROM:-0700
TZOFFSETTO:-0800
TZNAME:PST
DTSTART:20241103T090000
END:STANDARD
BEGIN:DAYLIGHT
TZOFFSETFROM:-0800
TZOFFSETTO:-0700
TZNAME:PDT
DTSTART:20250309T100000
END:DAYLIGHT
BEGIN:STANDARD
TZOFFSETFROM:-0700
TZOFFSETTO:-0800
TZNAME:PST
DTSTART:20251102T090000
END:STANDARD
END:VTIMEZONE
BEGIN:VEVENT
DTSTART;TZID=America/Los_Angeles:20240305T070000
DTEND;TZID=America/Los_Angeles:20240305T110000
DTSTAMP:20260420T025545
CREATED:20240112T202202Z
LAST-MODIFIED:20240229T192523Z
UID:7064-1709622000-1709636400@nvltap.com
SUMMARY:Flagger Training (Sparks)
DESCRIPTION:This course is limited to personnel employed by northern Nevada agencies. Only 5 seats available! \nLaborers’ Local 169 co-sponsors this 4-hour certification course\, which has been approved by the Nevada Department of Transportation (NDOT) and covers procedures for flaggers working on NDOT projects. All flaggers on these projects must have a certification of training in their possession while working. Topics include work zone hazards and safety; state regulations; flagging personal protective equipment; and flagging procedures. \nClick here for registration information
URL:https://nvltap.com/event/flagger-training-sparks-30/
LOCATION:Northern Nevada Laborers’ Training Center\, 50 Wild Horse Canyon Dr\, Sparks\, NV\, 89434\, United States
END:VEVENT
BEGIN:VEVENT
DTSTART;TZID=America/Los_Angeles:20240318T080000
DTEND;TZID=America/Los_Angeles:20240318T160000
DTSTAMP:20260420T025545
CREATED:20210413T165216Z
LAST-MODIFIED:20240306T172737Z
UID:3318-1710748800-1710777600@nvltap.com
SUMMARY:Confined Space workshop (Winnemucca)
DESCRIPTION:This hands-on course is designed to teach participants what a confined space is\, how it differs in road construction from other industries\, potential hazards and how to eliminate them\, ventilation and rescue practices and procedures\, and employer/employee rights and responsibilities. \nRegister
URL:https://nvltap.com/event/confined-space-workshop-reno/
LOCATION:City of Winnemucca\, 1735 W. 4th St.\, Winnemucca\, NV\, 89445\, United States
END:VEVENT
BEGIN:VEVENT
DTSTART;TZID=America/Los_Angeles:20240319T133000
DTEND;TZID=America/Los_Angeles:20240319T133000
DTSTAMP:20260420T025545
CREATED:20231110T204539Z
LAST-MODIFIED:20240306T172534Z
UID:6993-1710855000-1710855000@nvltap.com
SUMMARY:Constructing Thin Surface Treatments for Asphalt Pavements
DESCRIPTION:Choosing the proper surface treatment can add life to your pavements and make the best use of your agency’s pavement preservation budget. This 2-hour web conference introduces thin surface treatments\, including slurry seals\, microsurfacing\, and chip seals. \nBy the end of the training\, you will be able to: \n\nDescribe the types of distresses best addressed by each treatment.\nDescribe recommended materials and mixtures for each treatment.\nDescribe recommended construction procedures for each treatment.\nState typical performance concerns for each treatment.\n\n  \nRegister
URL:https://nvltap.com/event/constructing-thin-surface-treatments-for-asphalt-pavements/
END:VEVENT
BEGIN:VEVENT
DTSTART;TZID=America/Los_Angeles:20240326T090000
DTEND;TZID=America/Los_Angeles:20240326T110000
DTSTAMP:20260420T025545
CREATED:20240306T150019Z
LAST-MODIFIED:20240306T170736Z
UID:7342-1711443600-1711450800@nvltap.com
SUMMARY:Road Safety Champion Program - Module 5: Introduction to Traffic Safety Culture
DESCRIPTION:The overall Road Safety Champion Program provides a high-level overview of road safety in the United States through seven modules. \nThe goal of this two-hour virtual training\, Module 5–Core Module 5: Intersection of Transportation with Public Health and Law Enforcement covers the role of public health and law enforcement agencies to work together on the road to zero and strategies to achieve this. \nAfter attending training\, participants will be able to: \n\n\n\nReiterate the importance of transportation safety from multiple perspectives.\nIdentify how law enforcement and public health are intertwined in transportation safety.\nDescribe collaborative approach strategies to break down silos.\n\n\n\nRegister
URL:https://nvltap.com/event/road-safety-champion-program-module-5-introduction-to-traffic-safety-culture/
END:VEVENT
BEGIN:VEVENT
DTSTART;TZID=America/Los_Angeles:20240328T070000
DTEND;TZID=America/Los_Angeles:20240328T160000
DTSTAMP:20260420T025545
CREATED:20200625T204931Z
LAST-MODIFIED:20240306T172403Z
UID:2278-1711609200-1711641600@nvltap.com
SUMMARY:Airfield Pavement Management (Reno)
DESCRIPTION:This 8-hour workshop (with 1-hour lunch period) introduces the different techniques for maintaining and rehabilitating both asphalt and concrete-surfaced airfield pavements. The workshop concludes with a discussion of ways to improve an airport’s pavement program. \nThis workshop is intended for anyone involved in airfield pavement maintenance. It begins with an introduction to the different types of pavements and materials\, including an explanation of how they’re put together and the factors that affect how they perform. That introduction is followed by an overview of how to evaluate pavements by considering different measures of pavement condition. New content on some of the innovative sensor-based technologies being used for pavement evaluation highlight where pavement evaluation is heading. These introductory sessions lay the groundwork for presentations on the different techniques for maintaining and rehabilitating both asphalt and concrete-surfaced airfield pavements. The workshop concludes with a discussion of ways to improve an airport’s pavement program. \nAt the end of this workshop\, participants will be able to do the following: \n\nDescribe the different types of pavements and explain their typical performance.\nIdentify the different types and causes of distresses associated with flexible and rigid pavements.\nList various techniques included in a comprehensive pavement evaluation.\nIdentify appropriate treatments for flexible and rigid pavements under a range of conditions.\n\n  \nRegister
URL:https://nvltap.com/event/airport-pavement-management-reno/
LOCATION:Aloft\, 2015 Terminal Way\, Reno\, NV\, 89502\, United States
END:VEVENT
END:VCALENDAR