BEGIN:VCALENDAR
VERSION:2.0
PRODID:-//Nevada Local Technical Assistance Program - ECPv6.15.17//NONSGML v1.0//EN
CALSCALE:GREGORIAN
METHOD:PUBLISH
X-WR-CALNAME:Nevada Local Technical Assistance Program
X-ORIGINAL-URL:https://nvltap.com
X-WR-CALDESC:Events for Nevada Local Technical Assistance Program
REFRESH-INTERVAL;VALUE=DURATION:PT1H
X-Robots-Tag:noindex
X-PUBLISHED-TTL:PT1H
BEGIN:VTIMEZONE
TZID:America/Los_Angeles
BEGIN:DAYLIGHT
TZOFFSETFROM:-0800
TZOFFSETTO:-0700
TZNAME:PDT
DTSTART:20250309T100000
END:DAYLIGHT
BEGIN:STANDARD
TZOFFSETFROM:-0700
TZOFFSETTO:-0800
TZNAME:PST
DTSTART:20251102T090000
END:STANDARD
BEGIN:DAYLIGHT
TZOFFSETFROM:-0800
TZOFFSETTO:-0700
TZNAME:PDT
DTSTART:20260308T100000
END:DAYLIGHT
BEGIN:STANDARD
TZOFFSETFROM:-0700
TZOFFSETTO:-0800
TZNAME:PST
DTSTART:20261101T090000
END:STANDARD
BEGIN:DAYLIGHT
TZOFFSETFROM:-0800
TZOFFSETTO:-0700
TZNAME:PDT
DTSTART:20270314T100000
END:DAYLIGHT
BEGIN:STANDARD
TZOFFSETFROM:-0700
TZOFFSETTO:-0800
TZNAME:PST
DTSTART:20271107T090000
END:STANDARD
END:VTIMEZONE
BEGIN:VEVENT
DTSTART;TZID=America/Los_Angeles:20260422T100000
DTEND;TZID=America/Los_Angeles:20260422T120000
DTSTAMP:20260422T023431
CREATED:20260416T204405Z
LAST-MODIFIED:20260416T204405Z
UID:9421-1776852000-1776859200@nvltap.com
SUMMARY:National Center for Rural Road Safety: Road Safety Champion Program (RSCP): Safety of responders on Roads (FR#3) (Virtual)
DESCRIPTION:Webinar: Road Safety Champion Program (RSCP): Safety of responders on Roads (FR#3)\nDate: April 22\, 2026\nTime: 10:00 am to 12:00 pm PT\nCost: Free \nContinuing Education Credits: 0.20 CEUs\nOrganization: National Center for Rural Road Safety  \nA supplement to the National Traffic Incident Management Responder training\, this module provides a deeper understanding of tools\, recommendations\, and materials available for first responders to ensure their safety while working on the side of the road.
URL:https://nvltap.com/event/national-center-for-rural-road-safety-road-safety-champion-program-rscp-safety-of-responders-on-roads-fr3-virtual-3/
END:VEVENT
BEGIN:VEVENT
DTSTART;TZID=America/Los_Angeles:20260422T103000
DTEND;TZID=America/Los_Angeles:20260422T120000
DTSTAMP:20260422T023431
CREATED:20260416T204523Z
LAST-MODIFIED:20260416T204523Z
UID:9423-1776853800-1776859200@nvltap.com
SUMMARY:National Operations Center of Excellence (NOCoE): Talking Traffic Incident Management (TIM) (Virtual)
DESCRIPTION:Webinar: Talking Traffic Incident Management (TIM)\nDate: April 22\, 2026\nTime: 10:30 am to 12:00 pm PT\nCost: Free \nContinuing Education Credits: 1.5 PDH credits\nOrganization: National Operations Center of Excellence (NOCoE)  \nThe Talking TIM webinar series provides a forum where TIM practitioners can exchange information about current practices\, programs\, and technologies. Each month\, Talking TIM will highlight successful programs\, identify best practices\, and showcase technology that advances the profession. 
URL:https://nvltap.com/event/national-operations-center-of-excellence-nocoe-talking-traffic-incident-management-tim-virtual-5/
END:VEVENT
END:VCALENDAR