BEGIN:VCALENDAR
VERSION:2.0
PRODID:-//Nevada Local Technical Assistance Program - ECPv6.15.17//NONSGML v1.0//EN
CALSCALE:GREGORIAN
METHOD:PUBLISH
X-WR-CALNAME:Nevada Local Technical Assistance Program
X-ORIGINAL-URL:https://nvltap.com
X-WR-CALDESC:Events for Nevada Local Technical Assistance Program
REFRESH-INTERVAL;VALUE=DURATION:PT1H
X-Robots-Tag:noindex
X-PUBLISHED-TTL:PT1H
BEGIN:VTIMEZONE
TZID:America/Los_Angeles
BEGIN:DAYLIGHT
TZOFFSETFROM:-0800
TZOFFSETTO:-0700
TZNAME:PDT
DTSTART:20250309T100000
END:DAYLIGHT
BEGIN:STANDARD
TZOFFSETFROM:-0700
TZOFFSETTO:-0800
TZNAME:PST
DTSTART:20251102T090000
END:STANDARD
BEGIN:DAYLIGHT
TZOFFSETFROM:-0800
TZOFFSETTO:-0700
TZNAME:PDT
DTSTART:20260308T100000
END:DAYLIGHT
BEGIN:STANDARD
TZOFFSETFROM:-0700
TZOFFSETTO:-0800
TZNAME:PST
DTSTART:20261101T090000
END:STANDARD
BEGIN:DAYLIGHT
TZOFFSETFROM:-0800
TZOFFSETTO:-0700
TZNAME:PDT
DTSTART:20270314T100000
END:DAYLIGHT
BEGIN:STANDARD
TZOFFSETFROM:-0700
TZOFFSETTO:-0800
TZNAME:PST
DTSTART:20271107T090000
END:STANDARD
END:VTIMEZONE
BEGIN:VEVENT
DTSTART;TZID=America/Los_Angeles:20260421T100000
DTEND;TZID=America/Los_Angeles:20260421T120000
DTSTAMP:20260421T020932
CREATED:20260408T134149Z
LAST-MODIFIED:20260408T134149Z
UID:9405-1776765600-1776772800@nvltap.com
SUMMARY:National Center for Rural Road Safety: Road Safety Champion Program (RSCP): Worker Safety (M&C#3) (Virtual)
DESCRIPTION:Webinar: Road Safety Champion Program (RSCP): Worker Safety (M&C#3)\nDate: April 21\, 2026\nTime: 10:00 am to 12:00 pm PT\nCost: Free \nContinuing Education Credits: 0.20 CEUs\nOrganization: National Center for Rural Road Safety  \nGain an overview of potential hazards for workers and explore preventive measures for improving worker safety. Participants will learn the hierarchy of safety controls for the workplace and specific examples from roadway construction.
URL:https://nvltap.com/event/national-center-for-rural-road-safety-road-safety-champion-program-rscp-worker-safety-mc3-virtual/
END:VEVENT
BEGIN:VEVENT
DTSTART;TZID=America/Los_Angeles:20260421T110000
DTEND;TZID=America/Los_Angeles:20260421T120000
DTSTAMP:20260421T020932
CREATED:20260416T204226Z
LAST-MODIFIED:20260416T204226Z
UID:9419-1776769200-1776772800@nvltap.com
SUMMARY:America Walks: More Than a Sidewalk - How Great Places Encourage Walking (Virtual)
DESCRIPTION:Webinar: More Than a Sidewalk – How Great Places Encourage Walking\nDate: April 21\, 2026\nTime: 11:00 am to 12:00 pm PT\nCost: Free \nContinuing Education Credits: Unknown\nOrganization: America Walks  \nWe all know a great place when we find one — but what makes it great\, and how do we create more of them? \nWalkability isn’t just about infrastructure\, it’s about appeal. People walk when streets feel human-scaled\, inviting\, and alive with arts\, culture\, and community. This webinar\, jointly hosted by the Urban Land Institute and America Walks\, features Ethan Kent of PlacemakingX and placemaking expert Carol Coletta to explore the strategies that transform ordinary streets into dynamic places.
URL:https://nvltap.com/event/america-walks-more-than-a-sidewalk-how-great-places-encourage-walking-virtual/
END:VEVENT
END:VCALENDAR