BEGIN:VCALENDAR
VERSION:2.0
PRODID:-//Nevada Local Technical Assistance Program - ECPv6.15.17//NONSGML v1.0//EN
CALSCALE:GREGORIAN
METHOD:PUBLISH
X-ORIGINAL-URL:https://nvltap.com
X-WR-CALDESC:Events for Nevada Local Technical Assistance Program
REFRESH-INTERVAL;VALUE=DURATION:PT1H
X-Robots-Tag:noindex
X-PUBLISHED-TTL:PT1H
BEGIN:VTIMEZONE
TZID:America/Los_Angeles
BEGIN:DAYLIGHT
TZOFFSETFROM:-0800
TZOFFSETTO:-0700
TZNAME:PDT
DTSTART:20240310T100000
END:DAYLIGHT
BEGIN:STANDARD
TZOFFSETFROM:-0700
TZOFFSETTO:-0800
TZNAME:PST
DTSTART:20241103T090000
END:STANDARD
BEGIN:DAYLIGHT
TZOFFSETFROM:-0800
TZOFFSETTO:-0700
TZNAME:PDT
DTSTART:20250309T100000
END:DAYLIGHT
BEGIN:STANDARD
TZOFFSETFROM:-0700
TZOFFSETTO:-0800
TZNAME:PST
DTSTART:20251102T090000
END:STANDARD
BEGIN:DAYLIGHT
TZOFFSETFROM:-0800
TZOFFSETTO:-0700
TZNAME:PDT
DTSTART:20260308T100000
END:DAYLIGHT
BEGIN:STANDARD
TZOFFSETFROM:-0700
TZOFFSETTO:-0800
TZNAME:PST
DTSTART:20261101T090000
END:STANDARD
END:VTIMEZONE
BEGIN:VEVENT
DTSTART;TZID=America/Los_Angeles:20250925T100000
DTEND;TZID=America/Los_Angeles:20250925T110000
DTSTAMP:20260419T045558
CREATED:20250919T154226Z
LAST-MODIFIED:20251013T133945Z
UID:8804-1758794400-1758798000@nvltap.com
SUMMARY:American Trails: Natural Surface Trails as Transportation (Virtual)
DESCRIPTION:Date: September 25\, 2025\nTime: 10:00am to 11:00am PT\nCost: Free \nOrganization: American Trails \nThis presentation\, developed by Alliance Action Sports Experts and Austin Ridge Riders\, explores the integration of natural surface trails (NSTs) into urban and suburban transportation infrastructure. Traditionally considered recreational assets\, NSTs—such as mountain bike singletrack—can also function as practical\, low-impact transportation corridors that enhance connectivity\, promote multi-modal use\, and accommodate diverse users. Using real-world examples like the Whisper Valley subdivision in Texas\, the presentation outlines the benefits\, planning considerations\, and implementation strategies for incorporating NSTs into greenways and public trail systems.
URL:https://nvltap.com/event/american-trails-natural-surface-trails-as-transportation-virtual/
LOCATION:Virtual
END:VEVENT
BEGIN:VEVENT
DTSTART;TZID=America/Los_Angeles:20250925T110000
DTEND;TZID=America/Los_Angeles:20250925T120000
DTSTAMP:20260419T045558
CREATED:20250919T154418Z
LAST-MODIFIED:20251013T134013Z
UID:8807-1758798000-1758801600@nvltap.com
SUMMARY:America Walks: Community Design and Nondrivers - Connecting All of Us (Virtual)
DESCRIPTION:Date: September 25\, 2025\nTime: 11:00am to 12:00pm PT\nCost: Free \nOrganization: America Walks \nTransportation is deeply connected to health\, housing\, food access\, education\, economic opportunity\, and more. Yet many of our communities are designed in ways that make it difficult for people who can’t drive to get where they need to go. \nApproximately 30% of the U.S. population cannot drive because of age\, disability\, income\, or other barriers. Everyone is a nondriver for at least part of their lives\, and most people will outlive their ability to drive. What does that mean for our ability to age in place\, access opportunities and care\, stay connected\, and move safely across our communities throughout our lives? \nJoin Community Design and Nondrivers – Connecting All of Us to explore opportunities to make our transportation systems work for all. Hear real-world experiences from people navigating current challenges\, and learn how issues such as time spent traveling\, safety\, and access impact daily life.. Most importantly\, it will look at what’s possible and ask the fundamental question: “What kind of community do we want to live in?”
URL:https://nvltap.com/event/america-walks-community-design-and-nondrivers-connecting-all-of-us-virtual/
LOCATION:Virtual
END:VEVENT
END:VCALENDAR