BEGIN:VCALENDAR
VERSION:2.0
PRODID:-//Nevada Local Technical Assistance Program - ECPv6.15.17//NONSGML v1.0//EN
CALSCALE:GREGORIAN
METHOD:PUBLISH
X-ORIGINAL-URL:https://nvltap.com
X-WR-CALDESC:Events for Nevada Local Technical Assistance Program
REFRESH-INTERVAL;VALUE=DURATION:PT1H
X-Robots-Tag:noindex
X-PUBLISHED-TTL:PT1H
BEGIN:VTIMEZONE
TZID:America/Los_Angeles
BEGIN:DAYLIGHT
TZOFFSETFROM:-0800
TZOFFSETTO:-0700
TZNAME:PDT
DTSTART:20240310T100000
END:DAYLIGHT
BEGIN:STANDARD
TZOFFSETFROM:-0700
TZOFFSETTO:-0800
TZNAME:PST
DTSTART:20241103T090000
END:STANDARD
BEGIN:DAYLIGHT
TZOFFSETFROM:-0800
TZOFFSETTO:-0700
TZNAME:PDT
DTSTART:20250309T100000
END:DAYLIGHT
BEGIN:STANDARD
TZOFFSETFROM:-0700
TZOFFSETTO:-0800
TZNAME:PST
DTSTART:20251102T090000
END:STANDARD
BEGIN:DAYLIGHT
TZOFFSETFROM:-0800
TZOFFSETTO:-0700
TZNAME:PDT
DTSTART:20260308T100000
END:DAYLIGHT
BEGIN:STANDARD
TZOFFSETFROM:-0700
TZOFFSETTO:-0800
TZNAME:PST
DTSTART:20261101T090000
END:STANDARD
END:VTIMEZONE
BEGIN:VEVENT
DTSTART;TZID=America/Los_Angeles:20250128T090000
DTEND;TZID=America/Los_Angeles:20250129T120000
DTSTAMP:20260422T200807
CREATED:20241212T164408Z
LAST-MODIFIED:20241219T201431Z
UID:8284-1738054800-1738152000@nvltap.com
SUMMARY:Pavement Marking Installation and Maintenance (virtual)
DESCRIPTION:This 2-day 3-hours/day interactive virtual training explores the standard types and uses of pavement markings. It teaches how to prepare to install markings\, and then apply and inspect the work. The training also explores the value of a pavement marking management system\, and new and upcoming advancements in materials and equipment. \nYou will have opportunities to explore pavement marking resources—such as the MUTCD and a variety of local\, state\, and FHWA documents—and to use those resources to answer questions and make decisions that mirror on-the-job tasks. Be prepared to uncover valuable tips from across the country that your agency might use for installing and inspecting pavement markings\, and dig into the Nevada specifications\, plans\, and field inspection guides. \nRegister \n 
URL:https://nvltap.com/event/pavement-marking-installation-and-maintenance-virtual-3/
END:VEVENT
END:VCALENDAR