BEGIN:VCALENDAR
VERSION:2.0
PRODID:-//Nevada Local Technical Assistance Program - ECPv6.15.17//NONSGML v1.0//EN
CALSCALE:GREGORIAN
METHOD:PUBLISH
X-WR-CALNAME:Nevada Local Technical Assistance Program
X-ORIGINAL-URL:https://nvltap.com
X-WR-CALDESC:Events for Nevada Local Technical Assistance Program
REFRESH-INTERVAL;VALUE=DURATION:PT1H
X-Robots-Tag:noindex
X-PUBLISHED-TTL:PT1H
BEGIN:VTIMEZONE
TZID:America/Los_Angeles
BEGIN:DAYLIGHT
TZOFFSETFROM:-0800
TZOFFSETTO:-0700
TZNAME:PDT
DTSTART:20230312T100000
END:DAYLIGHT
BEGIN:STANDARD
TZOFFSETFROM:-0700
TZOFFSETTO:-0800
TZNAME:PST
DTSTART:20231105T090000
END:STANDARD
BEGIN:DAYLIGHT
TZOFFSETFROM:-0800
TZOFFSETTO:-0700
TZNAME:PDT
DTSTART:20240310T100000
END:DAYLIGHT
BEGIN:STANDARD
TZOFFSETFROM:-0700
TZOFFSETTO:-0800
TZNAME:PST
DTSTART:20241103T090000
END:STANDARD
BEGIN:DAYLIGHT
TZOFFSETFROM:-0800
TZOFFSETTO:-0700
TZNAME:PDT
DTSTART:20250309T100000
END:DAYLIGHT
BEGIN:STANDARD
TZOFFSETFROM:-0700
TZOFFSETTO:-0800
TZNAME:PST
DTSTART:20251102T090000
END:STANDARD
END:VTIMEZONE
BEGIN:VEVENT
DTSTART;TZID=America/Los_Angeles:20241106T070000
DTEND;TZID=America/Los_Angeles:20241106T160000
DTSTAMP:20260422T153328
CREATED:20240909T154024Z
LAST-MODIFIED:20240910T150327Z
UID:7876-1730876400-1730908800@nvltap.com
SUMMARY:Electrical and Arc Flash Safety
DESCRIPTION:This 8-hour one-day class will provide participants with live instruction regarding worker safety requirements of the OSHA standards as well as the NFPA 70 and 70E publications. The Federal Bureau of Labor Statistics data is presented to participants to indicate the seriousness of electrical injuries. The four types of these hazards are identified and discussed. A short review of the properties of electricity is included. Throughout the class the requirements of the NFPA 70E standard are presented to the class with descriptions and discussion as needed.  These include definitions\, responsibilities\, training requirements\, job hazard analysis\, hierarchy of risk control\, electrical safe work condition\, lock out and tag out\, PPE requirements and more. Participation is encouraged in a job hazard analysis of a student selected task. Four case studies of fatalities are presented and discussed to illustrate the importance of hazard recognition and control. The presentation includes several videos of arc flash accidents that illustrate the explosive release of energy when this type of event occurs.
URL:https://nvltap.com/event/arc-flash-electrical-safety/
LOCATION:City of Reno\, 1640 E. Commercial Row\, Reno\, NV\, 89512
END:VEVENT
BEGIN:VEVENT
DTSTART;TZID=America/Los_Angeles:20241106T080000
DTEND;TZID=America/Los_Angeles:20241106T140000
DTSTAMP:20260422T153328
CREATED:20240909T130817Z
LAST-MODIFIED:20240909T131032Z
UID:7778-1730880000-1730901600@nvltap.com
SUMMARY:Basic Work Zone Traffic Control – Winnemucca
DESCRIPTION:Improve worker and motorist safety with this 6-hour training! \nIn 2022 there were 891 fatalities in work zones across the United States. 54 of these were worker-pedestrians. This workshop aims to improve worker and motorist safety through teaching the proper use of traffic control devices during road maintenance and construction operations; how to use specific types of traffic control devices; and how to plan\, set up\, and maintain a work zone. This workshop will bring to light the hazards that field workers face every day in construction zones. \nBasic Work Zone Traffic Control covers the following items in detail with a fun combination of lecture and interactive activities: \n\nWhy temporary traffic Control (TTC) is needed\nWhen TTC is needed and how much\nTraffic control zones\nTraffic control devices\nTapers\nSet-up of traffic control zones\nFlagging\n\nThe workshop will bring to light the hazards that field workers face every day in construction zones. \nPlease note this course includes the 11th Edition December 2023 updates to the Manual on Uniform Traffic Control Devices (MUTCD).
URL:https://nvltap.com/event/basic-work-zone-traffic-control-winnemucca-3/
LOCATION:Winnemucca Convention Center\, 50 W. Winnemucca Blvd\, Winnemucca\, NV\, 89445\, United States
END:VEVENT
END:VCALENDAR