BEGIN:VCALENDAR
VERSION:2.0
PRODID:-//Nevada Local Technical Assistance Program - ECPv6.15.17//NONSGML v1.0//EN
CALSCALE:GREGORIAN
METHOD:PUBLISH
X-WR-CALNAME:Nevada Local Technical Assistance Program
X-ORIGINAL-URL:https://nvltap.com
X-WR-CALDESC:Events for Nevada Local Technical Assistance Program
REFRESH-INTERVAL;VALUE=DURATION:PT1H
X-Robots-Tag:noindex
X-PUBLISHED-TTL:PT1H
BEGIN:VTIMEZONE
TZID:America/Los_Angeles
BEGIN:DAYLIGHT
TZOFFSETFROM:-0800
TZOFFSETTO:-0700
TZNAME:PDT
DTSTART:20230312T100000
END:DAYLIGHT
BEGIN:STANDARD
TZOFFSETFROM:-0700
TZOFFSETTO:-0800
TZNAME:PST
DTSTART:20231105T090000
END:STANDARD
BEGIN:DAYLIGHT
TZOFFSETFROM:-0800
TZOFFSETTO:-0700
TZNAME:PDT
DTSTART:20240310T100000
END:DAYLIGHT
BEGIN:STANDARD
TZOFFSETFROM:-0700
TZOFFSETTO:-0800
TZNAME:PST
DTSTART:20241103T090000
END:STANDARD
BEGIN:DAYLIGHT
TZOFFSETFROM:-0800
TZOFFSETTO:-0700
TZNAME:PDT
DTSTART:20250309T100000
END:DAYLIGHT
BEGIN:STANDARD
TZOFFSETFROM:-0700
TZOFFSETTO:-0800
TZNAME:PST
DTSTART:20251102T090000
END:STANDARD
END:VTIMEZONE
BEGIN:VEVENT
DTSTART;TZID=America/Los_Angeles:20241010T090000
DTEND;TZID=America/Los_Angeles:20241010T123000
DTSTAMP:20260420T070124
CREATED:20240830T140659Z
LAST-MODIFIED:20240830T141043Z
UID:7868-1728550800-1728563400@nvltap.com
SUMMARY:Colorado LTAP: Transportation Workforce Summit
DESCRIPTION:
URL:https://nvltap.com/event/colorado-ltap-transportation-workforce-summit/
LOCATION:Virtual
END:VEVENT
END:VCALENDAR