BEGIN:VCALENDAR
VERSION:2.0
PRODID:-//Nevada Local Technical Assistance Program - ECPv6.15.17//NONSGML v1.0//EN
CALSCALE:GREGORIAN
METHOD:PUBLISH
X-ORIGINAL-URL:https://nvltap.com
X-WR-CALDESC:Events for Nevada Local Technical Assistance Program
REFRESH-INTERVAL;VALUE=DURATION:PT1H
X-Robots-Tag:noindex
X-PUBLISHED-TTL:PT1H
BEGIN:VTIMEZONE
TZID:America/Los_Angeles
BEGIN:DAYLIGHT
TZOFFSETFROM:-0800
TZOFFSETTO:-0700
TZNAME:PDT
DTSTART:20230312T100000
END:DAYLIGHT
BEGIN:STANDARD
TZOFFSETFROM:-0700
TZOFFSETTO:-0800
TZNAME:PST
DTSTART:20231105T090000
END:STANDARD
BEGIN:DAYLIGHT
TZOFFSETFROM:-0800
TZOFFSETTO:-0700
TZNAME:PDT
DTSTART:20240310T100000
END:DAYLIGHT
BEGIN:STANDARD
TZOFFSETFROM:-0700
TZOFFSETTO:-0800
TZNAME:PST
DTSTART:20241103T090000
END:STANDARD
BEGIN:DAYLIGHT
TZOFFSETFROM:-0800
TZOFFSETTO:-0700
TZNAME:PDT
DTSTART:20250309T100000
END:DAYLIGHT
BEGIN:STANDARD
TZOFFSETFROM:-0700
TZOFFSETTO:-0800
TZNAME:PST
DTSTART:20251102T090000
END:STANDARD
END:VTIMEZONE
BEGIN:VEVENT
DTSTART;TZID=America/Los_Angeles:20241002T121500
DTEND;TZID=America/Los_Angeles:20241002T163000
DTSTAMP:20260420T025616
CREATED:20240724T154512Z
LAST-MODIFIED:20240912T163150Z
UID:7700-1727871300-1727886600@nvltap.com
SUMMARY:Snowfighter Simulator Training (Reno)
DESCRIPTION:Snowfighter Simulator Training (Reno)\nThis course is scheduled for Wednesday\, October 2\, 2024. LIMITED SEATING!!\n(Time slots open: Only 3 @ 12:15-2:15) \nSnowfighters will be trained to be safe\, efficient and prepared before it snows! L3Harris’s simulator will be visiting and is available for 2-hour sessions using state-of-the-art technology. \n\nUnderstanding the definition of Decision Based Driving.\nFamiliarization with the driving simulator.\nUnderstanding what affects our decision making process.\nThe positive effects of good decision making\, along with Crash Statistics.\nUnderstanding the acronym SMART as a basis for Decision Based Driving.\nImproving hazard awareness levels by using proper scanning/searching techniques while plowing the road.\nIdentifying and properly assessing hazards.\nUnderstanding the effects of changing vehicle dynamics while plowing safely.\nUnderstanding proactive vs. reactive driving.\nUtilizing alternate driving strategies (Speed/Space management).\nExpecting the unexpected: possible white outs.\nCompleting the computer based training covering Safe Plowing.\nDemonstrating competency in decision driving by successfully showing improvements with the PUTTING IT ALL TOGETHER final drive\n\nThe registration fee is $350 for local agency participants and $500 for all others.
URL:https://nvltap.com/event/snowplow-simulator-training-reno-3/
LOCATION:City of Reno\, 1640 E. Commercial Row\, Reno\, NV\, 89512
END:VEVENT
END:VCALENDAR