BEGIN:VCALENDAR
VERSION:2.0
PRODID:-//Nevada Local Technical Assistance Program - ECPv6.15.17//NONSGML v1.0//EN
CALSCALE:GREGORIAN
METHOD:PUBLISH
X-ORIGINAL-URL:https://nvltap.com
X-WR-CALDESC:Events for Nevada Local Technical Assistance Program
REFRESH-INTERVAL;VALUE=DURATION:PT1H
X-Robots-Tag:noindex
X-PUBLISHED-TTL:PT1H
BEGIN:VTIMEZONE
TZID:America/Los_Angeles
BEGIN:DAYLIGHT
TZOFFSETFROM:-0800
TZOFFSETTO:-0700
TZNAME:PDT
DTSTART:20230312T100000
END:DAYLIGHT
BEGIN:STANDARD
TZOFFSETFROM:-0700
TZOFFSETTO:-0800
TZNAME:PST
DTSTART:20231105T090000
END:STANDARD
BEGIN:DAYLIGHT
TZOFFSETFROM:-0800
TZOFFSETTO:-0700
TZNAME:PDT
DTSTART:20240310T100000
END:DAYLIGHT
BEGIN:STANDARD
TZOFFSETFROM:-0700
TZOFFSETTO:-0800
TZNAME:PST
DTSTART:20241103T090000
END:STANDARD
BEGIN:DAYLIGHT
TZOFFSETFROM:-0800
TZOFFSETTO:-0700
TZNAME:PDT
DTSTART:20250309T100000
END:DAYLIGHT
BEGIN:STANDARD
TZOFFSETFROM:-0700
TZOFFSETTO:-0800
TZNAME:PST
DTSTART:20251102T090000
END:STANDARD
END:VTIMEZONE
BEGIN:VEVENT
DTSTART;TZID=America/Los_Angeles:20240227T133000
DTEND;TZID=America/Los_Angeles:20240227T153000
DTSTAMP:20260420T042744
CREATED:20231110T205106Z
LAST-MODIFIED:20231110T205106Z
UID:6995-1709040600-1709047800@nvltap.com
SUMMARY:Chip Seal Best Practices
DESCRIPTION:Chip seals are a common type of surface seal. They provide one of the best forms of sealing the surface against moisture intrusion\, can significantly increase the surface friction\, and can extend the service life of an asphalt pavement as a preservation treatment. Although chip seals typically provide good performance\, there are occasions when a chip seal fails prematurely or does not provide the expected service life. This training describes how to achieve maximum performance and avoid premature failure. \nAfter this 2-hour virtual training\, you will be able to: \n\nCompare the types of chip seals based on their strengths and weaknesses.\nUse standard guidance and pavement condition information to select a good chip seal candidate.\nIdentify design and construction practices that ensure performance.\n\nAttendees for this class include people who select\, design\, construct\, or inspect chip seal projects.
URL:https://nvltap.com/event/chip-seal-best-practices/
END:VEVENT
END:VCALENDAR