BEGIN:VCALENDAR
VERSION:2.0
PRODID:-//Nevada Local Technical Assistance Program - ECPv6.15.17//NONSGML v1.0//EN
CALSCALE:GREGORIAN
METHOD:PUBLISH
X-WR-CALNAME:Nevada Local Technical Assistance Program
X-ORIGINAL-URL:https://nvltap.com
X-WR-CALDESC:Events for Nevada Local Technical Assistance Program
REFRESH-INTERVAL;VALUE=DURATION:PT1H
X-Robots-Tag:noindex
X-PUBLISHED-TTL:PT1H
BEGIN:VTIMEZONE
TZID:America/Los_Angeles
BEGIN:DAYLIGHT
TZOFFSETFROM:-0800
TZOFFSETTO:-0700
TZNAME:PDT
DTSTART:20230312T100000
END:DAYLIGHT
BEGIN:STANDARD
TZOFFSETFROM:-0700
TZOFFSETTO:-0800
TZNAME:PST
DTSTART:20231105T090000
END:STANDARD
BEGIN:DAYLIGHT
TZOFFSETFROM:-0800
TZOFFSETTO:-0700
TZNAME:PDT
DTSTART:20240310T100000
END:DAYLIGHT
BEGIN:STANDARD
TZOFFSETFROM:-0700
TZOFFSETTO:-0800
TZNAME:PST
DTSTART:20241103T090000
END:STANDARD
BEGIN:DAYLIGHT
TZOFFSETFROM:-0800
TZOFFSETTO:-0700
TZNAME:PDT
DTSTART:20250309T100000
END:DAYLIGHT
BEGIN:STANDARD
TZOFFSETFROM:-0700
TZOFFSETTO:-0800
TZNAME:PST
DTSTART:20251102T090000
END:STANDARD
END:VTIMEZONE
BEGIN:VEVENT
DTSTART;TZID=America/Los_Angeles:20240222T110000
DTEND;TZID=America/Los_Angeles:20240222T123000
DTSTAMP:20260420T121500
CREATED:20240209T144839Z
LAST-MODIFIED:20240209T144839Z
UID:7096-1708599600-1708605000@nvltap.com
SUMMARY:Institute of Transportation Engineers Webinar: A Safe Systems Approach - Working Across Disciplines to Improve Safety and Health Equity Outcomes
DESCRIPTION:Thousands of people die on our roadways every year. The substantial and continued loss of life from transportation requires new approaches to traffic safety. Watch this ITE-hosted webinar exploring important new research that highlights how transportation professionals can shift their approach to roadway safety work by incorporating public health principles into transportation planning and engineering. \nJoin panelists – including Tiffany Smith from the Vision Zero Network\, David Ederer from the CDC & Meghan Mitman of Fehr & Peers – as we discuss what this means in roadway safety work\, including the need for cross-disciplinary efforts aligned with transportation decarbonization\, equity goals & more. \nFor more information about this training\, click here.\nLink: https://www.ite.org/events-meetings/ite-calendar/new-delivery-date-a-safe-systems-approach-working-across-disciplines-to-improve-safety-and-health-equity-outcomes/
URL:https://nvltap.com/event/institute-of-transportation-engineers-webinar-a-safe-systems-approach-working-across-disciplines-to-improve-safety-and-health-equity-outcomes/
LOCATION:Virtual
END:VEVENT
END:VCALENDAR