BEGIN:VCALENDAR
VERSION:2.0
PRODID:-//Nevada Local Technical Assistance Program - ECPv6.15.17//NONSGML v1.0//EN
CALSCALE:GREGORIAN
METHOD:PUBLISH
X-ORIGINAL-URL:https://nvltap.com
X-WR-CALDESC:Events for Nevada Local Technical Assistance Program
REFRESH-INTERVAL;VALUE=DURATION:PT1H
X-Robots-Tag:noindex
X-PUBLISHED-TTL:PT1H
BEGIN:VTIMEZONE
TZID:America/Los_Angeles
BEGIN:DAYLIGHT
TZOFFSETFROM:-0800
TZOFFSETTO:-0700
TZNAME:PDT
DTSTART:20220313T100000
END:DAYLIGHT
BEGIN:STANDARD
TZOFFSETFROM:-0700
TZOFFSETTO:-0800
TZNAME:PST
DTSTART:20221106T090000
END:STANDARD
BEGIN:DAYLIGHT
TZOFFSETFROM:-0800
TZOFFSETTO:-0700
TZNAME:PDT
DTSTART:20230312T100000
END:DAYLIGHT
BEGIN:STANDARD
TZOFFSETFROM:-0700
TZOFFSETTO:-0800
TZNAME:PST
DTSTART:20231105T090000
END:STANDARD
BEGIN:DAYLIGHT
TZOFFSETFROM:-0800
TZOFFSETTO:-0700
TZNAME:PDT
DTSTART:20240310T100000
END:DAYLIGHT
BEGIN:STANDARD
TZOFFSETFROM:-0700
TZOFFSETTO:-0800
TZNAME:PST
DTSTART:20241103T090000
END:STANDARD
END:VTIMEZONE
BEGIN:VEVENT
DTSTART;TZID=America/Los_Angeles:20230803T090000
DTEND;TZID=America/Los_Angeles:20230803T110000
DTSTAMP:20260419T085447
CREATED:20230614T155047Z
LAST-MODIFIED:20230629T164554Z
UID:6719-1691053200-1691060400@nvltap.com
SUMMARY:Cultural Competency & Historical Trauma
DESCRIPTION:This 2 hour virtual class addresses the definition of Cultural Competency and the historical impact. It includes knowing and reflecting on the cultural values\, beliefs\, attitudes\, and behaviors of yourself and others’. This course covers skills to communicate\, collaborate\, and achieve desired goals in cross-cultural situations; tribal relations is highlighted and used to illustrate real-life examples \n  \n  \n  \n 
URL:https://nvltap.com/event/cultural-competency-historical-trauma-2/
END:VEVENT
END:VCALENDAR