BEGIN:VCALENDAR
VERSION:2.0
PRODID:-//Nevada Local Technical Assistance Program - ECPv6.15.17//NONSGML v1.0//EN
CALSCALE:GREGORIAN
METHOD:PUBLISH
X-ORIGINAL-URL:https://nvltap.com
X-WR-CALDESC:Events for Nevada Local Technical Assistance Program
REFRESH-INTERVAL;VALUE=DURATION:PT1H
X-Robots-Tag:noindex
X-PUBLISHED-TTL:PT1H
BEGIN:VTIMEZONE
TZID:America/Chicago
BEGIN:DAYLIGHT
TZOFFSETFROM:-0600
TZOFFSETTO:-0500
TZNAME:CDT
DTSTART:20220313T080000
END:DAYLIGHT
BEGIN:STANDARD
TZOFFSETFROM:-0500
TZOFFSETTO:-0600
TZNAME:CST
DTSTART:20221106T070000
END:STANDARD
BEGIN:DAYLIGHT
TZOFFSETFROM:-0600
TZOFFSETTO:-0500
TZNAME:CDT
DTSTART:20230312T080000
END:DAYLIGHT
BEGIN:STANDARD
TZOFFSETFROM:-0500
TZOFFSETTO:-0600
TZNAME:CST
DTSTART:20231105T070000
END:STANDARD
BEGIN:DAYLIGHT
TZOFFSETFROM:-0600
TZOFFSETTO:-0500
TZNAME:CDT
DTSTART:20240310T080000
END:DAYLIGHT
BEGIN:STANDARD
TZOFFSETFROM:-0500
TZOFFSETTO:-0600
TZNAME:CST
DTSTART:20241103T070000
END:STANDARD
END:VTIMEZONE
BEGIN:VTIMEZONE
TZID:America/New_York
BEGIN:DAYLIGHT
TZOFFSETFROM:-0500
TZOFFSETTO:-0400
TZNAME:EDT
DTSTART:20220313T070000
END:DAYLIGHT
BEGIN:STANDARD
TZOFFSETFROM:-0400
TZOFFSETTO:-0500
TZNAME:EST
DTSTART:20221106T060000
END:STANDARD
BEGIN:DAYLIGHT
TZOFFSETFROM:-0500
TZOFFSETTO:-0400
TZNAME:EDT
DTSTART:20230312T070000
END:DAYLIGHT
BEGIN:STANDARD
TZOFFSETFROM:-0400
TZOFFSETTO:-0500
TZNAME:EST
DTSTART:20231105T060000
END:STANDARD
BEGIN:DAYLIGHT
TZOFFSETFROM:-0500
TZOFFSETTO:-0400
TZNAME:EDT
DTSTART:20240310T070000
END:DAYLIGHT
BEGIN:STANDARD
TZOFFSETFROM:-0400
TZOFFSETTO:-0500
TZNAME:EST
DTSTART:20241103T060000
END:STANDARD
END:VTIMEZONE
BEGIN:VEVENT
DTSTART;TZID=America/Chicago:20230620T110000
DTEND;TZID=America/Chicago:20230620T120000
DTSTAMP:20260419T073510
CREATED:20230613T143212Z
LAST-MODIFIED:20230613T143212Z
UID:6713-1687258800-1687262400@nvltap.com
SUMMARY:FHWA: Putting the Proven Countermeasures to Work to Reduce Roadway Departures Part 2
DESCRIPTION:Webinar: Putting the Proven Countermeasures to Work to Reduce Roadway Departures Part 2\n\nDate: June 20\, 2023\nTime: 11:00 am to 12:00 pm MT/1:00 pm to 2:00 pm ET\nCost: Free \nOrganization: Federal Highway Administration (FHWA) \nRural roadway departures account for approximately one-third of all U.S. traffic fatalities—about 30 people a day. The FHWA has identified proven countermeasures to reduce the number and severity of these crashes. This webinar will focus on how four transportation agencies are implementing these countermeasures. \nFor more information about this training\, click here.\nLink: https://usdot.zoomgov.com/webinar/register/WN_-lkSJwrSRIui913yjHi6cQ
URL:https://nvltap.com/event/fhwa-putting-the-proven-countermeasures-to-work-to-reduce-roadway-departures-part-2/
END:VEVENT
BEGIN:VEVENT
DTSTART;TZID=America/New_York:20230620T130000
DTEND;TZID=America/New_York:20230620T150000
DTSTAMP:20260419T073510
CREATED:20230525T155055Z
LAST-MODIFIED:20230525T155055Z
UID:6666-1687266000-1687273200@nvltap.com
SUMMARY:National Center for Rural Road Safety webinar: Putting the Proven Countermeasures to Work to Reduce Roadway Departures PT 2
DESCRIPTION:Putting the Proven Countermeasures to Work to Reduce Roadway Departures Part 2 \nDate: June 20\, 2023\nTime: 1:00 pm to 3:00 pm ET\nOrganization: Federal Highway Administration (FHWA) \nRural roadway departures account for approximately one-third of all U.S. traffic fatalities—about 30 people a day. The FHWA has identified proven countermeasures to reduce the number and severity of these crashes. This webinar will focus on how four transportation agencies are implementing these countermeasures. \nTO REGISTER: click here.\nLink: https://usdot.zoomgov.com/webinar/register/WN_-lkSJwrSRIui913yjHi6cQ
URL:https://nvltap.com/event/national-center-for-rural-road-safety-webinar-putting-the-proven-countermeasures-to-work-to-reduce-roadway-departures-pt-2/
END:VEVENT
END:VCALENDAR