BEGIN:VCALENDAR
VERSION:2.0
PRODID:-//Nevada Local Technical Assistance Program - ECPv6.15.17//NONSGML v1.0//EN
CALSCALE:GREGORIAN
METHOD:PUBLISH
X-ORIGINAL-URL:https://nvltap.com
X-WR-CALDESC:Events for Nevada Local Technical Assistance Program
REFRESH-INTERVAL;VALUE=DURATION:PT1H
X-Robots-Tag:noindex
X-PUBLISHED-TTL:PT1H
BEGIN:VTIMEZONE
TZID:America/Los_Angeles
BEGIN:DAYLIGHT
TZOFFSETFROM:-0800
TZOFFSETTO:-0700
TZNAME:PDT
DTSTART:20220313T100000
END:DAYLIGHT
BEGIN:STANDARD
TZOFFSETFROM:-0700
TZOFFSETTO:-0800
TZNAME:PST
DTSTART:20221106T090000
END:STANDARD
BEGIN:DAYLIGHT
TZOFFSETFROM:-0800
TZOFFSETTO:-0700
TZNAME:PDT
DTSTART:20230312T100000
END:DAYLIGHT
BEGIN:STANDARD
TZOFFSETFROM:-0700
TZOFFSETTO:-0800
TZNAME:PST
DTSTART:20231105T090000
END:STANDARD
BEGIN:DAYLIGHT
TZOFFSETFROM:-0800
TZOFFSETTO:-0700
TZNAME:PDT
DTSTART:20240310T100000
END:DAYLIGHT
BEGIN:STANDARD
TZOFFSETFROM:-0700
TZOFFSETTO:-0800
TZNAME:PST
DTSTART:20241103T090000
END:STANDARD
END:VTIMEZONE
BEGIN:VEVENT
DTSTART;TZID=America/Los_Angeles:20230612T070000
DTEND;TZID=America/Los_Angeles:20230612T113000
DTSTAMP:20260419T073504
CREATED:20230317T191318Z
LAST-MODIFIED:20230509T162849Z
UID:6497-1686553200-1686569400@nvltap.com
SUMMARY:Flagger Training – Las Vegas
DESCRIPTION:The Southern Nevada Laborers Union co-sponsors this 4-hour certification course\, which has been approved by the Nevada Department of Transportation (NDOT) and covers procedures for flaggers working on NDOT projects. All flaggers on these projects must have a certification of training in their possession while working. Topics include work zone hazards and safety; state regulations; flagging personal protective equipment; and flagging procedures. \nClick here for registration information.
URL:https://nvltap.com/event/flagger-training-las-vegas-18/
LOCATION:Southern NV Laborers Training Center\, 1750 E Sahara Ave\, Las Vegas\, NV\, 89104\, United States
END:VEVENT
END:VCALENDAR