BEGIN:VCALENDAR
VERSION:2.0
PRODID:-//Nevada Local Technical Assistance Program - ECPv6.15.17//NONSGML v1.0//EN
CALSCALE:GREGORIAN
METHOD:PUBLISH
X-ORIGINAL-URL:https://nvltap.com
X-WR-CALDESC:Events for Nevada Local Technical Assistance Program
REFRESH-INTERVAL;VALUE=DURATION:PT1H
X-Robots-Tag:noindex
X-PUBLISHED-TTL:PT1H
BEGIN:VTIMEZONE
TZID:America/Los_Angeles
BEGIN:DAYLIGHT
TZOFFSETFROM:-0800
TZOFFSETTO:-0700
TZNAME:PDT
DTSTART:20220313T100000
END:DAYLIGHT
BEGIN:STANDARD
TZOFFSETFROM:-0700
TZOFFSETTO:-0800
TZNAME:PST
DTSTART:20221106T090000
END:STANDARD
BEGIN:DAYLIGHT
TZOFFSETFROM:-0800
TZOFFSETTO:-0700
TZNAME:PDT
DTSTART:20230312T100000
END:DAYLIGHT
BEGIN:STANDARD
TZOFFSETFROM:-0700
TZOFFSETTO:-0800
TZNAME:PST
DTSTART:20231105T090000
END:STANDARD
BEGIN:DAYLIGHT
TZOFFSETFROM:-0800
TZOFFSETTO:-0700
TZNAME:PDT
DTSTART:20240310T100000
END:DAYLIGHT
BEGIN:STANDARD
TZOFFSETFROM:-0700
TZOFFSETTO:-0800
TZNAME:PST
DTSTART:20241103T090000
END:STANDARD
END:VTIMEZONE
BEGIN:VEVENT
DTSTART;TZID=America/Los_Angeles:20230522T123000
DTEND;TZID=America/Los_Angeles:20230522T133000
DTSTAMP:20260419T060841
CREATED:20230315T153922Z
LAST-MODIFIED:20230315T153922Z
UID:6463-1684758600-1684762200@nvltap.com
SUMMARY:FHWA Construction and Project Management Forum: Digital Project Delivery with Texas DOT
DESCRIPTION:FHWA May Digital As-Built Forum: Digital As-Builts from a Utility Perspective presented by Mr. Rob Martindale\, Utilities Program Manager \nThe USDOT Federal Highway Administration (FHWA) presents The Every Day Counts Innovation “Digital As-Builts” to Improve Safety\, Time\, and Quality in Transportation Construction. The forums are for transportation professionals to share with their peers how they have advanced the use of Digital As-Built plans within their highway agencies. \nDigital Project Delivery with Texas DOT \nTo Register:  Registration
URL:https://nvltap.com/event/fhwa-construction-and-project-management-forum-digital-project-delivery-with-texas-dot/
END:VEVENT
END:VCALENDAR