BEGIN:VCALENDAR
VERSION:2.0
PRODID:-//Nevada Local Technical Assistance Program - ECPv6.15.17//NONSGML v1.0//EN
CALSCALE:GREGORIAN
METHOD:PUBLISH
X-ORIGINAL-URL:https://nvltap.com
X-WR-CALDESC:Events for Nevada Local Technical Assistance Program
REFRESH-INTERVAL;VALUE=DURATION:PT1H
X-Robots-Tag:noindex
X-PUBLISHED-TTL:PT1H
BEGIN:VTIMEZONE
TZID:UTC
BEGIN:STANDARD
TZOFFSETFROM:+0000
TZOFFSETTO:+0000
TZNAME:UTC
DTSTART:20220101T000000
END:STANDARD
END:VTIMEZONE
BEGIN:VEVENT
DTSTART;TZID=UTC:20230516T070000
DTEND;TZID=UTC:20230517T120000
DTSTAMP:20260419T060944
CREATED:20230323T203158Z
LAST-MODIFIED:20230323T203226Z
UID:6534-1684220400-1684324800@nvltap.com
SUMMARY:Nevada Transportation Conference
DESCRIPTION:Conference registration is $175.00\, prior to May 1\, 2023.\nLate registration is $200.00. Registration fees are NON-REFUNDABLE after this date! \nThe Deadline for Sponsor Registration is May 1. \nHosted By \n\nNevada Department of Transportatioan\nUniversity of Nevada Reno\nFederal Highway Administration\nRegional Transportation Commission\n\n10 PDH’s will be awarded for attendance at this conference! \nAttendance at this conference may qualify for Professional Development Hours.\nPlease consult NAC 625 for further information.
URL:https://nvltap.com/event/nevada-transportation-conference-2/
LOCATION:Silver Legacy Resort Casino\, 407 N Virginia St\,\, Reno\, NV\, 89501\, United States
END:VEVENT
END:VCALENDAR